BEGIN:VCALENDAR
VERSION:2.0
PRODID:-//Greenhouse Garden Center - ECPv6.15.20//NONSGML v1.0//EN
CALSCALE:GREGORIAN
METHOD:PUBLISH
X-WR-CALNAME:Greenhouse Garden Center
X-ORIGINAL-URL:https://greenhousegardencenter.com
X-WR-CALDESC:Events for Greenhouse Garden Center
REFRESH-INTERVAL;VALUE=DURATION:PT1H
X-Robots-Tag:noindex
X-PUBLISHED-TTL:PT1H
BEGIN:VTIMEZONE
TZID:America/Los_Angeles
BEGIN:DAYLIGHT
TZOFFSETFROM:-0800
TZOFFSETTO:-0700
TZNAME:PDT
DTSTART:20240310T100000
END:DAYLIGHT
BEGIN:STANDARD
TZOFFSETFROM:-0700
TZOFFSETTO:-0800
TZNAME:PST
DTSTART:20241103T090000
END:STANDARD
BEGIN:DAYLIGHT
TZOFFSETFROM:-0800
TZOFFSETTO:-0700
TZNAME:PDT
DTSTART:20250309T100000
END:DAYLIGHT
BEGIN:STANDARD
TZOFFSETFROM:-0700
TZOFFSETTO:-0800
TZNAME:PST
DTSTART:20251102T090000
END:STANDARD
BEGIN:DAYLIGHT
TZOFFSETFROM:-0800
TZOFFSETTO:-0700
TZNAME:PDT
DTSTART:20260308T100000
END:DAYLIGHT
BEGIN:STANDARD
TZOFFSETFROM:-0700
TZOFFSETTO:-0800
TZNAME:PST
DTSTART:20261101T090000
END:STANDARD
BEGIN:DAYLIGHT
TZOFFSETFROM:-0800
TZOFFSETTO:-0700
TZNAME:PDT
DTSTART:20270314T100000
END:DAYLIGHT
BEGIN:STANDARD
TZOFFSETFROM:-0700
TZOFFSETTO:-0800
TZNAME:PST
DTSTART:20271107T090000
END:STANDARD
END:VTIMEZONE
BEGIN:VEVENT
DTSTART;TZID=America/Los_Angeles:20250809T090000
DTEND;TZID=America/Los_Angeles:20250809T170000
DTSTAMP:20260423T012317
CREATED:20250801T150652Z
LAST-MODIFIED:20250808T203749Z
UID:5385-1754730000-1754758800@greenhousegardencenter.com
SUMMARY:Full Moon Madness Sale!!
DESCRIPTION:David’s gone mad! Our Full Moon Madness Sale is now at 25% off nurserywide!! \nFrom stunning plants to garden décor and gift treasures\, take advantage of our Full Moon Madness to stock up mid-season and add a little moonlight magic to your landscape. \n*Excludes sod\, gift cards\, labor\, and delivery.
URL:https://greenhousegardencenter.com/event/full-moon-madness-sale-8-9/
CATEGORIES:Sale
ATTACH;FMTTYPE=image/png:https://greenhousegardencenter.com/wp-content/uploads/2025/08/Full-Moon-Madness-Instagram-Post-45.png
END:VEVENT
BEGIN:VEVENT
DTSTART;TZID=America/Los_Angeles:20250907T090000
DTEND;TZID=America/Los_Angeles:20250907T170000
DTSTAMP:20260423T012317
CREATED:20250828T190204Z
LAST-MODIFIED:20250903T193256Z
UID:5424-1757235600-1757264400@greenhousegardencenter.com
SUMMARY:Full Moon Madness Sale
DESCRIPTION:Date: Sunday\, September 7 | All Day | SPECIAL HOURS | 9 A.M. – 5 P.M.\nWe’re over the moon about 25% off nursery-wide savings! Celebrate the September full moon with one day of incredible deals across the garden center. Stock up on plants\, garden tools\, and fall favorites while supplies last. Bring a friend — it’s the perfect time to share the joy of gardening. \nSome exclusions may apply & cannot be combined with any other offer.
URL:https://greenhousegardencenter.com/event/full-moon-madness-sale-2/
CATEGORIES:Sale
ATTACH;FMTTYPE=image/png:https://greenhousegardencenter.com/wp-content/uploads/2025/08/9.3-after-7-pm.png
END:VEVENT
BEGIN:VEVENT
DTSTART;VALUE=DATE:20260401
DTEND;VALUE=DATE:20260415
DTSTAMP:20260423T012317
CREATED:20260402T230821Z
LAST-MODIFIED:20260402T230821Z
UID:5728-1775001600-1776211199@greenhousegardencenter.com
SUMMARY:Bumper Crop Soil Sale
DESCRIPTION:
URL:https://greenhousegardencenter.com/event/bumper-crop-soil-sale/
CATEGORIES:Sale
ATTACH;FMTTYPE=image/jpeg:https://greenhousegardencenter.com/wp-content/uploads/2026/04/4-2-26-Easter-Hours-and-Bumper-Crop-Sale-scaled-e1775171262305.jpg
END:VEVENT
BEGIN:VEVENT
DTSTART;TZID=America/Los_Angeles:20260422T090000
DTEND;TZID=America/Los_Angeles:20260422T170000
DTSTAMP:20260423T012317
CREATED:20260403T000246Z
LAST-MODIFIED:20260421T223309Z
UID:5731-1776848400-1776877200@greenhousegardencenter.com
SUMMARY:Earth Day Paydirt Sale
DESCRIPTION:
URL:https://greenhousegardencenter.com/event/earth-day-paydirt-sale-2/
CATEGORIES:Sale
ATTACH;FMTTYPE=image/jpeg:https://greenhousegardencenter.com/wp-content/uploads/2026/04/4-19-25-Earth-Day-Paydirt-Sale-1-scaled.jpg
END:VEVENT
BEGIN:VEVENT
DTSTART;TZID=America/Los_Angeles:20260424T090000
DTEND;TZID=America/Los_Angeles:20260424T170000
DTSTAMP:20260423T012317
CREATED:20260403T000346Z
LAST-MODIFIED:20260421T223736Z
UID:5734-1777021200-1777050000@greenhousegardencenter.com
SUMMARY:Arbor Day Sale
DESCRIPTION: 
URL:https://greenhousegardencenter.com/event/arbor-day-sale-2/
CATEGORIES:Sale
ATTACH;FMTTYPE=image/jpeg:https://greenhousegardencenter.com/wp-content/uploads/2026/04/4-21-26-Arbor-Day-scaled.jpg
END:VEVENT
BEGIN:VEVENT
DTSTART;VALUE=DATE:20260425
DTEND;VALUE=DATE:20260427
DTSTAMP:20260423T012317
CREATED:20260403T000427Z
LAST-MODIFIED:20260403T000457Z
UID:5736-1777075200-1777247999@greenhousegardencenter.com
SUMMARY:52nd Anniversary Sale!
DESCRIPTION:Details to be announced!
URL:https://greenhousegardencenter.com/event/52nd-anniversary-sale/
CATEGORIES:Sale
END:VEVENT
END:VCALENDAR