BEGIN:VCALENDAR
VERSION:2.0
PRODID:-//Greenhouse Garden Center - ECPv6.15.20//NONSGML v1.0//EN
CALSCALE:GREGORIAN
METHOD:PUBLISH
X-WR-CALNAME:Greenhouse Garden Center
X-ORIGINAL-URL:https://greenhousegardencenter.com
X-WR-CALDESC:Events for Greenhouse Garden Center
REFRESH-INTERVAL;VALUE=DURATION:PT1H
X-Robots-Tag:noindex
X-PUBLISHED-TTL:PT1H
BEGIN:VTIMEZONE
TZID:America/Los_Angeles
BEGIN:DAYLIGHT
TZOFFSETFROM:-0800
TZOFFSETTO:-0700
TZNAME:PDT
DTSTART:20240310T100000
END:DAYLIGHT
BEGIN:STANDARD
TZOFFSETFROM:-0700
TZOFFSETTO:-0800
TZNAME:PST
DTSTART:20241103T090000
END:STANDARD
BEGIN:DAYLIGHT
TZOFFSETFROM:-0800
TZOFFSETTO:-0700
TZNAME:PDT
DTSTART:20250309T100000
END:DAYLIGHT
BEGIN:STANDARD
TZOFFSETFROM:-0700
TZOFFSETTO:-0800
TZNAME:PST
DTSTART:20251102T090000
END:STANDARD
BEGIN:DAYLIGHT
TZOFFSETFROM:-0800
TZOFFSETTO:-0700
TZNAME:PDT
DTSTART:20260308T100000
END:DAYLIGHT
BEGIN:STANDARD
TZOFFSETFROM:-0700
TZOFFSETTO:-0800
TZNAME:PST
DTSTART:20261101T090000
END:STANDARD
END:VTIMEZONE
BEGIN:VEVENT
DTSTART;VALUE=DATE:20250601
DTEND;VALUE=DATE:20250609
DTSTAMP:20260422T161010
CREATED:20250530T201914Z
LAST-MODIFIED:20250605T004516Z
UID:5215-1748736000-1749427199@greenhousegardencenter.com
SUMMARY:Pottery Sale
DESCRIPTION:🌸 Pottery Sale | June 1–8\nGet your garden looking its best with 20% off all pots across the nursery. This is the perfect time to repot houseplants\, showcase succulents\, or elevate your porch with colorful containers.
URL:https://greenhousegardencenter.com/event/pottery-sale/
CATEGORIES:Sale
ATTACH;FMTTYPE=image/png:https://greenhousegardencenter.com/wp-content/uploads/2025/05/6.1-2.png
END:VEVENT
END:VCALENDAR