BEGIN:VCALENDAR
VERSION:2.0
PRODID:-//Greenhouse Garden Center - ECPv6.15.20//NONSGML v1.0//EN
CALSCALE:GREGORIAN
METHOD:PUBLISH
X-WR-CALNAME:Greenhouse Garden Center
X-ORIGINAL-URL:https://greenhousegardencenter.com
X-WR-CALDESC:Events for Greenhouse Garden Center
REFRESH-INTERVAL;VALUE=DURATION:PT1H
X-Robots-Tag:noindex
X-PUBLISHED-TTL:PT1H
BEGIN:VTIMEZONE
TZID:America/Los_Angeles
BEGIN:DAYLIGHT
TZOFFSETFROM:-0800
TZOFFSETTO:-0700
TZNAME:PDT
DTSTART:20240310T100000
END:DAYLIGHT
BEGIN:STANDARD
TZOFFSETFROM:-0700
TZOFFSETTO:-0800
TZNAME:PST
DTSTART:20241103T090000
END:STANDARD
BEGIN:DAYLIGHT
TZOFFSETFROM:-0800
TZOFFSETTO:-0700
TZNAME:PDT
DTSTART:20250309T100000
END:DAYLIGHT
BEGIN:STANDARD
TZOFFSETFROM:-0700
TZOFFSETTO:-0800
TZNAME:PST
DTSTART:20251102T090000
END:STANDARD
BEGIN:DAYLIGHT
TZOFFSETFROM:-0800
TZOFFSETTO:-0700
TZNAME:PDT
DTSTART:20260308T100000
END:DAYLIGHT
BEGIN:STANDARD
TZOFFSETFROM:-0700
TZOFFSETTO:-0800
TZNAME:PST
DTSTART:20261101T090000
END:STANDARD
END:VTIMEZONE
BEGIN:VEVENT
DTSTART;VALUE=DATE:20250501
DTEND;VALUE=DATE:20250601
DTSTAMP:20260422T175642
CREATED:20250430T231756Z
LAST-MODIFIED:20250510T155853Z
UID:5171-1746057600-1748735999@greenhousegardencenter.com
SUMMARY:Spring Fling Raffle
DESCRIPTION:We’re celebrating May Day throughout the entire month with our Spring Fling Raffle! Enter to win one of two $500 gift cards. All ticket sales will be donated to the Carson City Senior Center and Moxy Up. Let’s grow good together!
URL:https://greenhousegardencenter.com/event/spring-fling-raffle/
CATEGORIES:Event,Sale
ATTACH;FMTTYPE=image/png:https://greenhousegardencenter.com/wp-content/uploads/2025/04/5.1_5.8.png
END:VEVENT
BEGIN:VEVENT
DTSTART;TZID=America/Los_Angeles:20250517T090000
DTEND;TZID=America/Los_Angeles:20250526T170000
DTSTAMP:20260422T175642
CREATED:20250430T230255Z
LAST-MODIFIED:20250511T183903Z
UID:5160-1747472400-1748278800@greenhousegardencenter.com
SUMMARY:Tomatomania Sale!
DESCRIPTION:Tomatomania: Buy 3 tomato plants\, get a 4th for a penny
URL:https://greenhousegardencenter.com/event/tomatomania-sale/
CATEGORIES:Sale
ATTACH;FMTTYPE=image/png:https://greenhousegardencenter.com/wp-content/uploads/2025/04/Tomatomania-still-image.png
END:VEVENT
BEGIN:VEVENT
DTSTART;TZID=America/Los_Angeles:20250517T090000
DTEND;TZID=America/Los_Angeles:20250531T170000
DTSTAMP:20260422T175642
CREATED:20250430T230929Z
LAST-MODIFIED:20250510T160050Z
UID:5162-1747472400-1748710800@greenhousegardencenter.com
SUMMARY:Paydirt & Master's Pride Soil Sale
DESCRIPTION:🌿 Paydirt & Master’s Pride Soil Sale! (May 17–31)\nHealthy plants start with great soil. Northern Nevada gardens benefit from organic-rich soils like Paydirt and Master’s Pride\, improving moisture retention and nutrient availability. Hit paydirt with our sales – Buy 3\, get the 4th bag for a penny!
URL:https://greenhousegardencenter.com/event/soil-sale/
CATEGORIES:Sale
ATTACH;FMTTYPE=image/png:https://greenhousegardencenter.com/wp-content/uploads/2025/04/5.7.png
END:VEVENT
END:VCALENDAR