BEGIN:VCALENDAR
VERSION:2.0
PRODID:-//Greenhouse Garden Center - ECPv6.15.20//NONSGML v1.0//EN
CALSCALE:GREGORIAN
METHOD:PUBLISH
X-ORIGINAL-URL:https://greenhousegardencenter.com
X-WR-CALDESC:Events for Greenhouse Garden Center
REFRESH-INTERVAL;VALUE=DURATION:PT1H
X-Robots-Tag:noindex
X-PUBLISHED-TTL:PT1H
BEGIN:VTIMEZONE
TZID:America/Los_Angeles
BEGIN:DAYLIGHT
TZOFFSETFROM:-0800
TZOFFSETTO:-0700
TZNAME:PDT
DTSTART:20240310T100000
END:DAYLIGHT
BEGIN:STANDARD
TZOFFSETFROM:-0700
TZOFFSETTO:-0800
TZNAME:PST
DTSTART:20241103T090000
END:STANDARD
BEGIN:DAYLIGHT
TZOFFSETFROM:-0800
TZOFFSETTO:-0700
TZNAME:PDT
DTSTART:20250309T100000
END:DAYLIGHT
BEGIN:STANDARD
TZOFFSETFROM:-0700
TZOFFSETTO:-0800
TZNAME:PST
DTSTART:20251102T090000
END:STANDARD
BEGIN:DAYLIGHT
TZOFFSETFROM:-0800
TZOFFSETTO:-0700
TZNAME:PDT
DTSTART:20260308T100000
END:DAYLIGHT
BEGIN:STANDARD
TZOFFSETFROM:-0700
TZOFFSETTO:-0800
TZNAME:PST
DTSTART:20261101T090000
END:STANDARD
END:VTIMEZONE
BEGIN:VEVENT
DTSTART;VALUE=DATE:20250501
DTEND;VALUE=DATE:20250601
DTSTAMP:20260422T180019
CREATED:20250430T231756Z
LAST-MODIFIED:20250510T155853Z
UID:5171-1746057600-1748735999@greenhousegardencenter.com
SUMMARY:Spring Fling Raffle
DESCRIPTION:We’re celebrating May Day throughout the entire month with our Spring Fling Raffle! Enter to win one of two $500 gift cards. All ticket sales will be donated to the Carson City Senior Center and Moxy Up. Let’s grow good together!
URL:https://greenhousegardencenter.com/event/spring-fling-raffle/
CATEGORIES:Event,Sale
ATTACH;FMTTYPE=image/png:https://greenhousegardencenter.com/wp-content/uploads/2025/04/5.1_5.8.png
END:VEVENT
BEGIN:VEVENT
DTSTART;TZID=America/Los_Angeles:20250510T090000
DTEND;TZID=America/Los_Angeles:20250511T160000
DTSTAMP:20260422T180019
CREATED:20250430T231246Z
LAST-MODIFIED:20250511T165444Z
UID:5165-1746867600-1746979200@greenhousegardencenter.com
SUMMARY:Dean Crouser Ceramics Sale!
DESCRIPTION:20% off all Dean Crouser ceramics & décor for your Momma\, or you! ​ \nDean Crouser’s ceramics are renowned for their vibrant watercolor artistry that captures the essence of nature. Born and raised in Oregon\, Dean’s deep appreciation for the outdoors—fishing\, camping\, and the natural beauty of the Pacific Northwest—inspires his work.
URL:https://greenhousegardencenter.com/event/dean-crouser-ceramics-sale/
CATEGORIES:Sale
ATTACH;FMTTYPE=image/png:https://greenhousegardencenter.com/wp-content/uploads/2025/04/Crouse-ceramics-1080-x-1080-px.png
END:VEVENT
BEGIN:VEVENT
DTSTART;TZID=America/Los_Angeles:20250510T090000
DTEND;TZID=America/Los_Angeles:20250511T160000
DTSTAMP:20260422T180019
CREATED:20250430T231543Z
LAST-MODIFIED:20250510T160000Z
UID:5168-1746867600-1746979200@greenhousegardencenter.com
SUMMARY:Mother's Day Rose Sale
DESCRIPTION:Roses love the sun and moms love roses! Roses thrive in Northern Nevada due to cool nights and sunny days. Now’s your opportunity to stock up! Buy 3 roses and get the 4th for a penny!
URL:https://greenhousegardencenter.com/event/mothers-day-rose-sale/
CATEGORIES:Sale
ATTACH;FMTTYPE=image/png:https://greenhousegardencenter.com/wp-content/uploads/2025/04/5.5.png
END:VEVENT
END:VCALENDAR