BEGIN:VCALENDAR
VERSION:2.0
PRODID:-//Greenhouse Garden Center - ECPv6.15.20//NONSGML v1.0//EN
CALSCALE:GREGORIAN
METHOD:PUBLISH
X-ORIGINAL-URL:https://greenhousegardencenter.com
X-WR-CALDESC:Events for Greenhouse Garden Center
REFRESH-INTERVAL;VALUE=DURATION:PT1H
X-Robots-Tag:noindex
X-PUBLISHED-TTL:PT1H
BEGIN:VTIMEZONE
TZID:America/Los_Angeles
BEGIN:DAYLIGHT
TZOFFSETFROM:-0800
TZOFFSETTO:-0700
TZNAME:PDT
DTSTART:20240310T100000
END:DAYLIGHT
BEGIN:STANDARD
TZOFFSETFROM:-0700
TZOFFSETTO:-0800
TZNAME:PST
DTSTART:20241103T090000
END:STANDARD
BEGIN:DAYLIGHT
TZOFFSETFROM:-0800
TZOFFSETTO:-0700
TZNAME:PDT
DTSTART:20250309T100000
END:DAYLIGHT
BEGIN:STANDARD
TZOFFSETFROM:-0700
TZOFFSETTO:-0800
TZNAME:PST
DTSTART:20251102T090000
END:STANDARD
BEGIN:DAYLIGHT
TZOFFSETFROM:-0800
TZOFFSETTO:-0700
TZNAME:PDT
DTSTART:20260308T100000
END:DAYLIGHT
BEGIN:STANDARD
TZOFFSETFROM:-0700
TZOFFSETTO:-0800
TZNAME:PST
DTSTART:20261101T090000
END:STANDARD
END:VTIMEZONE
BEGIN:VEVENT
DTSTART;VALUE=DATE:20250326
DTEND;VALUE=DATE:20250327
DTSTAMP:20260422T074607
CREATED:20250326T233518Z
LAST-MODIFIED:20250326T233518Z
UID:5050-1742947200-1743033599@greenhousegardencenter.com
SUMMARY:Happy Easter! We are open
DESCRIPTION:Happy Easter to you and your family. We’re open on Easter Sunday 10am-4pm
URL:https://greenhousegardencenter.com/event/happy-easter-we-are-open/
CATEGORIES:National Holiday
ATTACH;FMTTYPE=image/jpeg:https://greenhousegardencenter.com/wp-content/uploads/2025/03/IMG_3101.jpeg
END:VEVENT
END:VCALENDAR