BEGIN:VCALENDAR
VERSION:2.0
PRODID:-//Greenhouse Garden Center - ECPv6.15.20//NONSGML v1.0//EN
CALSCALE:GREGORIAN
METHOD:PUBLISH
X-WR-CALNAME:Greenhouse Garden Center
X-ORIGINAL-URL:https://greenhousegardencenter.com
X-WR-CALDESC:Events for Greenhouse Garden Center
REFRESH-INTERVAL;VALUE=DURATION:PT1H
X-Robots-Tag:noindex
X-PUBLISHED-TTL:PT1H
BEGIN:VTIMEZONE
TZID:America/Los_Angeles
BEGIN:DAYLIGHT
TZOFFSETFROM:-0800
TZOFFSETTO:-0700
TZNAME:PDT
DTSTART:20240310T100000
END:DAYLIGHT
BEGIN:STANDARD
TZOFFSETFROM:-0700
TZOFFSETTO:-0800
TZNAME:PST
DTSTART:20241103T090000
END:STANDARD
BEGIN:DAYLIGHT
TZOFFSETFROM:-0800
TZOFFSETTO:-0700
TZNAME:PDT
DTSTART:20250309T100000
END:DAYLIGHT
BEGIN:STANDARD
TZOFFSETFROM:-0700
TZOFFSETTO:-0800
TZNAME:PST
DTSTART:20251102T090000
END:STANDARD
BEGIN:DAYLIGHT
TZOFFSETFROM:-0800
TZOFFSETTO:-0700
TZNAME:PDT
DTSTART:20260308T100000
END:DAYLIGHT
BEGIN:STANDARD
TZOFFSETFROM:-0700
TZOFFSETTO:-0800
TZNAME:PST
DTSTART:20261101T090000
END:STANDARD
BEGIN:DAYLIGHT
TZOFFSETFROM:-0800
TZOFFSETTO:-0700
TZNAME:PDT
DTSTART:20270314T100000
END:DAYLIGHT
BEGIN:STANDARD
TZOFFSETFROM:-0700
TZOFFSETTO:-0800
TZNAME:PST
DTSTART:20271107T090000
END:STANDARD
END:VTIMEZONE
BEGIN:VEVENT
DTSTART;TZID=America/Los_Angeles:20250713T103000
DTEND;TZID=America/Los_Angeles:20250713T113000
DTSTAMP:20260423T032710
CREATED:20250630T224446Z
LAST-MODIFIED:20250630T224506Z
UID:5273-1752402600-1752406200@greenhousegardencenter.com
SUMMARY:Planting for Hummingbirds & Butterflies with Tiffany Sunday\, July 13\, 10:30am-11:30am
DESCRIPTION:Want to attract more winged wonders to your yard? Join Tiffany for a colorful and educational seminar on creating a pollinator paradise! Learn which plants thrive in our high desert climate and provide essential nectar for hummingbirds and butterflies. She’ll share tips for designing habitat-friendly gardens that bloom from spring through fall\, while helping support our vital pollinators. Cost: $5 per person\, proceeds will be donated to a local charity
URL:https://greenhousegardencenter.com/event/planting-for-hummingbirds-butterflies/
CATEGORIES:Event
ATTACH;FMTTYPE=image/png:https://greenhousegardencenter.com/wp-content/uploads/2025/06/10.png
END:VEVENT
BEGIN:VEVENT
DTSTART;TZID=America/Los_Angeles:20250726T100000
DTEND;TZID=America/Los_Angeles:20250726T110000
DTSTAMP:20260423T032710
CREATED:20250630T225003Z
LAST-MODIFIED:20250630T225003Z
UID:5280-1753524000-1753527600@greenhousegardencenter.com
SUMMARY:Deer & Rabbit Resistant Plants –  Saturday\, July 26\, 10am
DESCRIPTION:Tired of your garden becoming a buffet? Let Brian introduce you to the best plants for keeping deer and rabbits at bay—without sacrificing beauty or variety. You’ll explore shrubs\, perennials\, and herbs that perform well in our high desert soils and are low on the menu for wildlife. Learn smart strategies for placement\, deterrents\, and soil care\, too. $5 donation supports local causes.
URL:https://greenhousegardencenter.com/event/deer-rabbit-resistant-plants-saturday-july-26-10am/
CATEGORIES:Event
ATTACH;FMTTYPE=image/png:https://greenhousegardencenter.com/wp-content/uploads/2025/06/15.png
END:VEVENT
BEGIN:VEVENT
DTSTART;TZID=America/Los_Angeles:20250727T100000
DTEND;TZID=America/Los_Angeles:20250727T110000
DTSTAMP:20260423T032710
CREATED:20250630T225318Z
LAST-MODIFIED:20250630T225318Z
UID:5283-1753610400-1753614000@greenhousegardencenter.com
SUMMARY:Summer Pond Maintenance with David – Sunday\, July 27 at 10 a.m.
DESCRIPTION:Your pond is a serene centerpiece\, but it needs midseason care to stay healthy and clear. David shares his expert knowledge on maintaining water quality\, managing algae\, caring for pond plants\, and supporting fish during the hottest months. Whether you’re new to ponds or a seasoned water gardener\, you’ll leave with actionable advice and product recommendations to keep things running smoothly. $5 donation benefits a local charity.
URL:https://greenhousegardencenter.com/event/summer-pond-maintenance/
CATEGORIES:Event
ATTACH;FMTTYPE=image/jpeg:https://greenhousegardencenter.com/wp-content/uploads/2025/06/Water-hyacinth-bloom-scaled.jpg
END:VEVENT
BEGIN:VEVENT
DTSTART;TZID=America/Los_Angeles:20250816T093000
DTEND;TZID=America/Los_Angeles:20250816T103000
DTSTAMP:20260423T032710
CREATED:20250730T213613Z
LAST-MODIFIED:20250730T213626Z
UID:5372-1755336600-1755340200@greenhousegardencenter.com
SUMMARY:Ornamental Grasses Seminar with Brian
DESCRIPTION:Saturday\, Aug. 16\, 9:30 a.m. – 10:30 a.m. | $5 donation \nAdd movement\, structure\, and drought-tolerant beauty to your garden with ornamental grasses! Join Brian for an in-depth seminar on the best grass varieties for Northern Nevada. Learn how to choose the right grasses for your soil and sun exposure\, when to plant or divide them\, and how to incorporate them into your existing landscape for texture and year-round interest. Class fee: $5 donation to a local charity. Includes plant recommendations and growing tips.
URL:https://greenhousegardencenter.com/event/ornamental-grasses-seminar-with-brian/
CATEGORIES:Clubs classes and clinics,Event
ATTACH;FMTTYPE=image/png:https://greenhousegardencenter.com/wp-content/uploads/2025/07/8.16-21-Ornamental-Grasses-1.png
END:VEVENT
BEGIN:VEVENT
DTSTART;TZID=America/Los_Angeles:20250817T103000
DTEND;TZID=America/Los_Angeles:20250817T113000
DTSTAMP:20260423T032710
CREATED:20250730T214726Z
LAST-MODIFIED:20250806T171307Z
UID:5375-1755426600-1755430200@greenhousegardencenter.com
SUMMARY:Succulent Bowls with Tiffany
DESCRIPTION:Sunday\, Aug. 17\, 10:30 a.m. | $50 per person | RSVP Required \nCreate your own stunning succulent centerpiece with Tiffany! In this hands-on class\, you’ll learn how to design and plant a thriving succulent bowl that’s perfect for indoor or outdoor display. Tiffany will walk you through soil selection\, plant care\, and styling tricks to keep your bowl looking beautiful all season long. Materials include a 10-inch diameter bowl-shaped pot\, potting soil\, fertilizer to mix into the soil\, succulents to fill the bowl\, and hands-on instructions for assembling it all. Cost: $50. Limited seating—RSVP required! Please call 775-882-8600 to reserve your spot.
URL:https://greenhousegardencenter.com/event/succulent-bowls-with-tiffany/
CATEGORIES:Clubs classes and clinics,Event
ATTACH;FMTTYPE=image/png:https://greenhousegardencenter.com/wp-content/uploads/2025/07/Succulent-Bowls-8.13-17-FINAL.png
END:VEVENT
BEGIN:VEVENT
DTSTART;TZID=America/Los_Angeles:20250823T100000
DTEND;TZID=America/Los_Angeles:20250823T110000
DTSTAMP:20260423T032710
CREATED:20250730T215104Z
LAST-MODIFIED:20250730T215334Z
UID:5378-1755943200-1755946800@greenhousegardencenter.com
SUMMARY:Grapes & Berries Seminar with David
DESCRIPTION:Saturday\, Aug. 23\, 10 a.m. – 11 a.m. | $5 donation \nThinking about growing your own fruit? Discover how to grow grapes\, raspberries\, and other berries that thrive in our Northern Nevada climate. Join David as he discusses ideal planting conditions\, pruning techniques\, pest management\, and the best-suited varieties for our zone. Whether you’re dreaming of backyard jelly or a mini vineyard\, you’ll leave with tips for success. Class fee: $5 donation to a local charity.
URL:https://greenhousegardencenter.com/event/grapes-berries-seminar-with-david/
CATEGORIES:Clubs classes and clinics,Event
ATTACH;FMTTYPE=image/png:https://greenhousegardencenter.com/wp-content/uploads/2025/07/Grapes-and-Berries-8.19-23.png
END:VEVENT
BEGIN:VEVENT
DTSTART;TZID=America/Los_Angeles:20250830T100000
DTEND;TZID=America/Los_Angeles:20250830T110000
DTSTAMP:20260423T032710
CREATED:20250730T215548Z
LAST-MODIFIED:20250730T220232Z
UID:5381-1756548000-1756551600@greenhousegardencenter.com
SUMMARY:Firescaping Seminar with David
DESCRIPTION:Saturday\, Aug. 30\, 10 a.m. – 11 a.m. | $5 donation \nWildfire season is here—prepare your landscape the smart way. Join David for a timely seminar on firescaping: using defensible design and fire-resistive plants to help safeguard your home. Discover how to establish defensible zones\, select the ideal materials\, and effectively maintain your garden to minimize fire risk without compromising beauty. Ideal for gardeners living in the wildland-urban interface. Class fee: $5 donation to a local charity.
URL:https://greenhousegardencenter.com/event/firescaping-seminar-with-david/
CATEGORIES:Clubs classes and clinics,Event
ATTACH;FMTTYPE=image/png:https://greenhousegardencenter.com/wp-content/uploads/2025/07/Firescaping-8.26-30.png
END:VEVENT
BEGIN:VEVENT
DTSTART;TZID=America/Los_Angeles:20250913T100000
DTEND;TZID=America/Los_Angeles:20250913T110000
DTSTAMP:20260423T032710
CREATED:20250828T190339Z
LAST-MODIFIED:20250828T190339Z
UID:5427-1757757600-1757761200@greenhousegardencenter.com
SUMMARY:Fall Plantings Seminar with Rick from Everde Growers
DESCRIPTION:Saturday\, September 13 | 10:00 – 11:00 a.m.\nFall is the best time to plant! Join Rick from Everde Growers and learn how warm soil and cool nights create the perfect conditions for strong root growth. Rick will share his favorite plants as well as professional tips for planting trees\, shrubs\, and flowers in both landscapes and containers\, ensuring your garden is set up for success.\nCost: $5 per person — proceeds donated to a local charity
URL:https://greenhousegardencenter.com/event/fall-plantings-seminar-with-rick-from-everde-growers/
CATEGORIES:Event
ATTACH;FMTTYPE=image/png:https://greenhousegardencenter.com/wp-content/uploads/2025/08/9.10.png
END:VEVENT
BEGIN:VEVENT
DTSTART;TZID=America/Los_Angeles:20251011T100000
DTEND;TZID=America/Los_Angeles:20251011T150000
DTSTAMP:20260423T032710
CREATED:20250922T170847Z
LAST-MODIFIED:20250922T170847Z
UID:5450-1760176800-1760194800@greenhousegardencenter.com
SUMMARY:Old Fashion Apple Press Day 1
DESCRIPTION:Click here to view safe consumption handout
URL:https://greenhousegardencenter.com/event/old-fashion-apple-press-day-1/
LOCATION:Greenhouse Garden Center\, 2450 South Curry Street\, Carson City\, Nevada\, 89703\, United States
CATEGORIES:Event
ATTACH;FMTTYPE=application/pdf:https://greenhousegardencenter.com/wp-content/uploads/2025/09/2025-Apple-Press-Handout.pdf
END:VEVENT
BEGIN:VEVENT
DTSTART;TZID=America/Los_Angeles:20251018T100000
DTEND;TZID=America/Los_Angeles:20251018T150000
DTSTAMP:20260423T032710
CREATED:20250922T171158Z
LAST-MODIFIED:20250922T171158Z
UID:5456-1760781600-1760799600@greenhousegardencenter.com
SUMMARY:Old Fashion Apple Press Day 2
DESCRIPTION:Click here to view safe consumption handout
URL:https://greenhousegardencenter.com/event/old-fashion-apple-press-day-2/
LOCATION:Greenhouse Garden Center\, 2450 South Curry Street\, Carson City\, Nevada\, 89703\, United States
CATEGORIES:Event
ATTACH;FMTTYPE=application/pdf:https://greenhousegardencenter.com/wp-content/uploads/2025/09/2025-Apple-Press-Handout-1.pdf
END:VEVENT
BEGIN:VEVENT
DTSTART;TZID=America/Los_Angeles:20251025T090000
DTEND;TZID=America/Los_Angeles:20251025T120000
DTSTAMP:20260423T032710
CREATED:20250922T181739Z
LAST-MODIFIED:20250922T181739Z
UID:5468-1761382800-1761393600@greenhousegardencenter.com
SUMMARY:Pumpkin Growing Contest
DESCRIPTION:
URL:https://greenhousegardencenter.com/event/pumpkin-growing-contest-3/
LOCATION:Greenhouse Garden Center\, 2450 South Curry Street\, Carson City\, Nevada\, 89703\, United States
CATEGORIES:Event
ATTACH;FMTTYPE=image/jpeg:https://greenhousegardencenter.com/wp-content/uploads/2025/09/Pumpkin-Growing-Contest-2025-scaled.jpg
END:VEVENT
BEGIN:VEVENT
DTSTART;TZID=America/Los_Angeles:20251025T100000
DTEND;TZID=America/Los_Angeles:20251025T140000
DTSTAMP:20260423T032710
CREATED:20250922T181246Z
LAST-MODIFIED:20250922T181246Z
UID:5466-1761386400-1761400800@greenhousegardencenter.com
SUMMARY:Free Pesticide Drop Off
DESCRIPTION:The Nevada Department of Agriculture will be here at the nursery to collect your old or unwanted pesticides for proper disposal.
URL:https://greenhousegardencenter.com/event/free-pesticide-drop-off-2/
LOCATION:Greenhouse Garden Center\, 2450 South Curry Street\, Carson City\, Nevada\, 89703\, United States
CATEGORIES:Event
END:VEVENT
BEGIN:VEVENT
DTSTART;TZID=America/Los_Angeles:20251025T100000
DTEND;TZID=America/Los_Angeles:20251025T150000
DTSTAMP:20260423T032710
CREATED:20250922T172459Z
LAST-MODIFIED:20250922T172459Z
UID:5463-1761386400-1761404400@greenhousegardencenter.com
SUMMARY:Old Fashion Apple Press Day 3
DESCRIPTION:Click here to view safe consumption handout
URL:https://greenhousegardencenter.com/event/old-fashion-apple-press-day-3/
LOCATION:Greenhouse Garden Center\, 2450 South Curry Street\, Carson City\, Nevada\, 89703\, United States
CATEGORIES:Event
ATTACH;FMTTYPE=application/pdf:https://greenhousegardencenter.com/wp-content/uploads/2025/09/2025-Apple-Press-Handout-2.pdf
END:VEVENT
BEGIN:VEVENT
DTSTART;TZID=America/Los_Angeles:20251108T100000
DTEND;TZID=America/Los_Angeles:20251109T160000
DTSTAMP:20260423T032710
CREATED:20251104T234542Z
LAST-MODIFIED:20251105T204012Z
UID:5502-1762596000-1762704000@greenhousegardencenter.com
SUMMARY:Christmas Open House
DESCRIPTION:Enjoy Santa’s favorite sweets & stop by our mimosa bar for a cup of cheer!
URL:https://greenhousegardencenter.com/event/christmas-open-house-4/
LOCATION:Greenhouse Garden Center\, 2450 South Curry Street\, Carson City\, Nevada\, 89703\, United States
CATEGORIES:Event
ATTACH;FMTTYPE=image/jpeg:https://greenhousegardencenter.com/wp-content/uploads/2025/11/11-5-25-Christmas-Open-House.jpg
END:VEVENT
BEGIN:VEVENT
DTSTART;VALUE=DATE:20260401
DTEND;VALUE=DATE:20260402
DTSTAMP:20260423T032710
CREATED:20260324T233722Z
LAST-MODIFIED:20260324T233722Z
UID:5704-1775001600-1775087999@greenhousegardencenter.com
SUMMARY:Special Hours
DESCRIPTION:We will be open 10am-5pm
URL:https://greenhousegardencenter.com/event/special-hours-3/
CATEGORIES:Event
END:VEVENT
BEGIN:VEVENT
DTSTART;VALUE=DATE:20260408
DTEND;VALUE=DATE:20260409
DTSTAMP:20260423T032710
CREATED:20260324T233750Z
LAST-MODIFIED:20260324T233945Z
UID:5706-1775606400-1775692799@greenhousegardencenter.com
SUMMARY:Special Hours
DESCRIPTION:We will be open 10am-5pm
URL:https://greenhousegardencenter.com/event/special-hours-4/
CATEGORIES:Event
END:VEVENT
END:VCALENDAR