BEGIN:VCALENDAR
VERSION:2.0
PRODID:-//Greenhouse Garden Center - ECPv6.15.20//NONSGML v1.0//EN
CALSCALE:GREGORIAN
METHOD:PUBLISH
X-WR-CALNAME:Greenhouse Garden Center
X-ORIGINAL-URL:https://greenhousegardencenter.com
X-WR-CALDESC:Events for Greenhouse Garden Center
REFRESH-INTERVAL;VALUE=DURATION:PT1H
X-Robots-Tag:noindex
X-PUBLISHED-TTL:PT1H
BEGIN:VTIMEZONE
TZID:America/Los_Angeles
BEGIN:DAYLIGHT
TZOFFSETFROM:-0800
TZOFFSETTO:-0700
TZNAME:PDT
DTSTART:20240310T100000
END:DAYLIGHT
BEGIN:STANDARD
TZOFFSETFROM:-0700
TZOFFSETTO:-0800
TZNAME:PST
DTSTART:20241103T090000
END:STANDARD
BEGIN:DAYLIGHT
TZOFFSETFROM:-0800
TZOFFSETTO:-0700
TZNAME:PDT
DTSTART:20250309T100000
END:DAYLIGHT
BEGIN:STANDARD
TZOFFSETFROM:-0700
TZOFFSETTO:-0800
TZNAME:PST
DTSTART:20251102T090000
END:STANDARD
BEGIN:DAYLIGHT
TZOFFSETFROM:-0800
TZOFFSETTO:-0700
TZNAME:PDT
DTSTART:20260308T100000
END:DAYLIGHT
BEGIN:STANDARD
TZOFFSETFROM:-0700
TZOFFSETTO:-0800
TZNAME:PST
DTSTART:20261101T090000
END:STANDARD
END:VTIMEZONE
BEGIN:VEVENT
DTSTART;TZID=America/Los_Angeles:20250830T100000
DTEND;TZID=America/Los_Angeles:20250830T110000
DTSTAMP:20260422T094712
CREATED:20250730T215548Z
LAST-MODIFIED:20250730T220232Z
UID:5381-1756548000-1756551600@greenhousegardencenter.com
SUMMARY:Firescaping Seminar with David
DESCRIPTION:Saturday\, Aug. 30\, 10 a.m. – 11 a.m. | $5 donation \nWildfire season is here—prepare your landscape the smart way. Join David for a timely seminar on firescaping: using defensible design and fire-resistive plants to help safeguard your home. Discover how to establish defensible zones\, select the ideal materials\, and effectively maintain your garden to minimize fire risk without compromising beauty. Ideal for gardeners living in the wildland-urban interface. Class fee: $5 donation to a local charity.
URL:https://greenhousegardencenter.com/event/firescaping-seminar-with-david/
CATEGORIES:Clubs classes and clinics,Event
ATTACH;FMTTYPE=image/png:https://greenhousegardencenter.com/wp-content/uploads/2025/07/Firescaping-8.26-30.png
END:VEVENT
END:VCALENDAR