BEGIN:VCALENDAR
VERSION:2.0
PRODID:-//Greenhouse Garden Center - ECPv6.15.20//NONSGML v1.0//EN
CALSCALE:GREGORIAN
METHOD:PUBLISH
X-ORIGINAL-URL:https://greenhousegardencenter.com
X-WR-CALDESC:Events for Greenhouse Garden Center
REFRESH-INTERVAL;VALUE=DURATION:PT1H
X-Robots-Tag:noindex
X-PUBLISHED-TTL:PT1H
BEGIN:VTIMEZONE
TZID:America/Los_Angeles
BEGIN:DAYLIGHT
TZOFFSETFROM:-0800
TZOFFSETTO:-0700
TZNAME:PDT
DTSTART:20240310T100000
END:DAYLIGHT
BEGIN:STANDARD
TZOFFSETFROM:-0700
TZOFFSETTO:-0800
TZNAME:PST
DTSTART:20241103T090000
END:STANDARD
BEGIN:DAYLIGHT
TZOFFSETFROM:-0800
TZOFFSETTO:-0700
TZNAME:PDT
DTSTART:20250309T100000
END:DAYLIGHT
BEGIN:STANDARD
TZOFFSETFROM:-0700
TZOFFSETTO:-0800
TZNAME:PST
DTSTART:20251102T090000
END:STANDARD
BEGIN:DAYLIGHT
TZOFFSETFROM:-0800
TZOFFSETTO:-0700
TZNAME:PDT
DTSTART:20260308T100000
END:DAYLIGHT
BEGIN:STANDARD
TZOFFSETFROM:-0700
TZOFFSETTO:-0800
TZNAME:PST
DTSTART:20261101T090000
END:STANDARD
END:VTIMEZONE
BEGIN:VEVENT
DTSTART;TZID=America/Los_Angeles:20250823T100000
DTEND;TZID=America/Los_Angeles:20250823T110000
DTSTAMP:20260422T094638
CREATED:20250730T215104Z
LAST-MODIFIED:20250730T215334Z
UID:5378-1755943200-1755946800@greenhousegardencenter.com
SUMMARY:Grapes & Berries Seminar with David
DESCRIPTION:Saturday\, Aug. 23\, 10 a.m. – 11 a.m. | $5 donation \nThinking about growing your own fruit? Discover how to grow grapes\, raspberries\, and other berries that thrive in our Northern Nevada climate. Join David as he discusses ideal planting conditions\, pruning techniques\, pest management\, and the best-suited varieties for our zone. Whether you’re dreaming of backyard jelly or a mini vineyard\, you’ll leave with tips for success. Class fee: $5 donation to a local charity.
URL:https://greenhousegardencenter.com/event/grapes-berries-seminar-with-david/
CATEGORIES:Clubs classes and clinics,Event
ATTACH;FMTTYPE=image/png:https://greenhousegardencenter.com/wp-content/uploads/2025/07/Grapes-and-Berries-8.19-23.png
END:VEVENT
END:VCALENDAR