BEGIN:VCALENDAR
VERSION:2.0
PRODID:-//Greenhouse Garden Center - ECPv6.15.20//NONSGML v1.0//EN
CALSCALE:GREGORIAN
METHOD:PUBLISH
X-ORIGINAL-URL:https://greenhousegardencenter.com
X-WR-CALDESC:Events for Greenhouse Garden Center
REFRESH-INTERVAL;VALUE=DURATION:PT1H
X-Robots-Tag:noindex
X-PUBLISHED-TTL:PT1H
BEGIN:VTIMEZONE
TZID:America/Los_Angeles
BEGIN:DAYLIGHT
TZOFFSETFROM:-0800
TZOFFSETTO:-0700
TZNAME:PDT
DTSTART:20240310T100000
END:DAYLIGHT
BEGIN:STANDARD
TZOFFSETFROM:-0700
TZOFFSETTO:-0800
TZNAME:PST
DTSTART:20241103T090000
END:STANDARD
BEGIN:DAYLIGHT
TZOFFSETFROM:-0800
TZOFFSETTO:-0700
TZNAME:PDT
DTSTART:20250309T100000
END:DAYLIGHT
BEGIN:STANDARD
TZOFFSETFROM:-0700
TZOFFSETTO:-0800
TZNAME:PST
DTSTART:20251102T090000
END:STANDARD
BEGIN:DAYLIGHT
TZOFFSETFROM:-0800
TZOFFSETTO:-0700
TZNAME:PDT
DTSTART:20260308T100000
END:DAYLIGHT
BEGIN:STANDARD
TZOFFSETFROM:-0700
TZOFFSETTO:-0800
TZNAME:PST
DTSTART:20261101T090000
END:STANDARD
END:VTIMEZONE
BEGIN:VEVENT
DTSTART;TZID=America/Los_Angeles:20250727T100000
DTEND;TZID=America/Los_Angeles:20250727T110000
DTSTAMP:20260422T113036
CREATED:20250630T225318Z
LAST-MODIFIED:20250630T225318Z
UID:5283-1753610400-1753614000@greenhousegardencenter.com
SUMMARY:Summer Pond Maintenance with David – Sunday\, July 27 at 10 a.m.
DESCRIPTION:Your pond is a serene centerpiece\, but it needs midseason care to stay healthy and clear. David shares his expert knowledge on maintaining water quality\, managing algae\, caring for pond plants\, and supporting fish during the hottest months. Whether you’re new to ponds or a seasoned water gardener\, you’ll leave with actionable advice and product recommendations to keep things running smoothly. $5 donation benefits a local charity.
URL:https://greenhousegardencenter.com/event/summer-pond-maintenance/
CATEGORIES:Event
ATTACH;FMTTYPE=image/jpeg:https://greenhousegardencenter.com/wp-content/uploads/2025/06/Water-hyacinth-bloom-scaled.jpg
END:VEVENT
END:VCALENDAR