BEGIN:VCALENDAR
VERSION:2.0
PRODID:-//Greenhouse Garden Center - ECPv6.15.20//NONSGML v1.0//EN
CALSCALE:GREGORIAN
METHOD:PUBLISH
X-ORIGINAL-URL:https://greenhousegardencenter.com
X-WR-CALDESC:Events for Greenhouse Garden Center
REFRESH-INTERVAL;VALUE=DURATION:PT1H
X-Robots-Tag:noindex
X-PUBLISHED-TTL:PT1H
BEGIN:VTIMEZONE
TZID:America/Los_Angeles
BEGIN:DAYLIGHT
TZOFFSETFROM:-0800
TZOFFSETTO:-0700
TZNAME:PDT
DTSTART:20240310T100000
END:DAYLIGHT
BEGIN:STANDARD
TZOFFSETFROM:-0700
TZOFFSETTO:-0800
TZNAME:PST
DTSTART:20241103T090000
END:STANDARD
BEGIN:DAYLIGHT
TZOFFSETFROM:-0800
TZOFFSETTO:-0700
TZNAME:PDT
DTSTART:20250309T100000
END:DAYLIGHT
BEGIN:STANDARD
TZOFFSETFROM:-0700
TZOFFSETTO:-0800
TZNAME:PST
DTSTART:20251102T090000
END:STANDARD
BEGIN:DAYLIGHT
TZOFFSETFROM:-0800
TZOFFSETTO:-0700
TZNAME:PDT
DTSTART:20260308T100000
END:DAYLIGHT
BEGIN:STANDARD
TZOFFSETFROM:-0700
TZOFFSETTO:-0800
TZNAME:PST
DTSTART:20261101T090000
END:STANDARD
END:VTIMEZONE
BEGIN:VEVENT
DTSTART;VALUE=DATE:20250501
DTEND;VALUE=DATE:20250601
DTSTAMP:20260422T150913
CREATED:20250430T231756Z
LAST-MODIFIED:20250510T155853Z
UID:5171-1746057600-1748735999@greenhousegardencenter.com
SUMMARY:Spring Fling Raffle
DESCRIPTION:We’re celebrating May Day throughout the entire month with our Spring Fling Raffle! Enter to win one of two $500 gift cards. All ticket sales will be donated to the Carson City Senior Center and Moxy Up. Let’s grow good together!
URL:https://greenhousegardencenter.com/event/spring-fling-raffle/
CATEGORIES:Event,Sale
ATTACH;FMTTYPE=image/png:https://greenhousegardencenter.com/wp-content/uploads/2025/04/5.1_5.8.png
END:VEVENT
BEGIN:VEVENT
DTSTART;TZID=America/Los_Angeles:20250525T103000
DTEND;TZID=America/Los_Angeles:20250525T103000
DTSTAMP:20260422T150913
CREATED:20250430T223546Z
LAST-MODIFIED:20250430T223546Z
UID:5154-1748169000-1748169000@greenhousegardencenter.com
SUMMARY:💐 May 25 – Fresh Cut Flower Gardening with Tiffany
DESCRIPTION:Grow your own bouquet garden! Tiffany teaches you Fresh Cut Flower Gardening: how to plant and harvest flowers ideal for cutting—perfect for vases\, gifts\, and brightening your home. Learn about timing\, care\, and varieties suited to Northern Nevada.
URL:https://greenhousegardencenter.com/event/%f0%9f%92%90-may-25-fresh-cut-flower-gardening-with-tiffany/
CATEGORIES:Event
ATTACH;FMTTYPE=image/png:https://greenhousegardencenter.com/wp-content/uploads/2025/04/5.11.png
END:VEVENT
BEGIN:VEVENT
DTSTART;TZID=America/Los_Angeles:20250525T150000
DTEND;TZID=America/Los_Angeles:20250525T160000
DTSTAMP:20260422T150913
CREATED:20250430T224228Z
LAST-MODIFIED:20250430T225952Z
UID:5157-1748185200-1748188800@greenhousegardencenter.com
SUMMARY:🐦 May 25 – Backyard Birding Tour with Elona
DESCRIPTION:Invite nature into your backyard! Join Elona for a Backyard Birding walking tour and learn how to attract and identify local bird species. From feeder types to native plants\, you’ll discover simple ways to make your garden a bird-friendly haven.
URL:https://greenhousegardencenter.com/event/%f0%9f%90%a6-may-25-backyard-birding-tour-with-elona/
CATEGORIES:Event
ATTACH;FMTTYPE=image/png:https://greenhousegardencenter.com/wp-content/uploads/2025/04/Backyard-birding.png
END:VEVENT
END:VCALENDAR