BEGIN:VCALENDAR
VERSION:2.0
PRODID:-//Greenhouse Garden Center - ECPv6.15.20//NONSGML v1.0//EN
CALSCALE:GREGORIAN
METHOD:PUBLISH
X-WR-CALNAME:Greenhouse Garden Center
X-ORIGINAL-URL:https://greenhousegardencenter.com
X-WR-CALDESC:Events for Greenhouse Garden Center
REFRESH-INTERVAL;VALUE=DURATION:PT1H
X-Robots-Tag:noindex
X-PUBLISHED-TTL:PT1H
BEGIN:VTIMEZONE
TZID:America/Los_Angeles
BEGIN:DAYLIGHT
TZOFFSETFROM:-0800
TZOFFSETTO:-0700
TZNAME:PDT
DTSTART:20230312T100000
END:DAYLIGHT
BEGIN:STANDARD
TZOFFSETFROM:-0700
TZOFFSETTO:-0800
TZNAME:PST
DTSTART:20231105T090000
END:STANDARD
BEGIN:DAYLIGHT
TZOFFSETFROM:-0800
TZOFFSETTO:-0700
TZNAME:PDT
DTSTART:20240310T100000
END:DAYLIGHT
BEGIN:STANDARD
TZOFFSETFROM:-0700
TZOFFSETTO:-0800
TZNAME:PST
DTSTART:20241103T090000
END:STANDARD
BEGIN:DAYLIGHT
TZOFFSETFROM:-0800
TZOFFSETTO:-0700
TZNAME:PDT
DTSTART:20250309T100000
END:DAYLIGHT
BEGIN:STANDARD
TZOFFSETFROM:-0700
TZOFFSETTO:-0800
TZNAME:PST
DTSTART:20251102T090000
END:STANDARD
END:VTIMEZONE
BEGIN:VEVENT
DTSTART;TZID=America/Los_Angeles:20240622T100000
DTEND;TZID=America/Los_Angeles:20240622T150000
DTSTAMP:20260423T094710
CREATED:20240303T221057Z
LAST-MODIFIED:20240620T180531Z
UID:4507-1719050400-1719068400@greenhousegardencenter.com
SUMMARY:50th Anniversary Customer Appreciation Day!
DESCRIPTION:50th Anniversary Ribbon Cutting with Mayor Lori Bagwell and Assemblyman PK O’neill on June 22nd\, 10:30am-11am\nMeet our vendors\, enjoy great music and yummy eats! \nLive music by Jeff Watkins \nJoin the raffles to win wonderful prizes! \nFood trucks: Bus Boy\, Fun With Food\, and Scoup’s Ice Cream-cycle
URL:https://greenhousegardencenter.com/event/customer-appreciation-day/
LOCATION:Greenhouse Garden Center\, 2450 South Curry Street\, Carson City\, Nevada\, 89703\, United States
CATEGORIES:Event
END:VEVENT
END:VCALENDAR