BEGIN:VCALENDAR
VERSION:2.0
PRODID:-//Greenhouse Garden Center - ECPv6.15.20//NONSGML v1.0//EN
CALSCALE:GREGORIAN
METHOD:PUBLISH
X-WR-CALNAME:Greenhouse Garden Center
X-ORIGINAL-URL:https://greenhousegardencenter.com
X-WR-CALDESC:Events for Greenhouse Garden Center
REFRESH-INTERVAL;VALUE=DURATION:PT1H
X-Robots-Tag:noindex
X-PUBLISHED-TTL:PT1H
BEGIN:VTIMEZONE
TZID:America/Los_Angeles
BEGIN:DAYLIGHT
TZOFFSETFROM:-0800
TZOFFSETTO:-0700
TZNAME:PDT
DTSTART:20250309T100000
END:DAYLIGHT
BEGIN:STANDARD
TZOFFSETFROM:-0700
TZOFFSETTO:-0800
TZNAME:PST
DTSTART:20251102T090000
END:STANDARD
BEGIN:DAYLIGHT
TZOFFSETFROM:-0800
TZOFFSETTO:-0700
TZNAME:PDT
DTSTART:20260308T100000
END:DAYLIGHT
BEGIN:STANDARD
TZOFFSETFROM:-0700
TZOFFSETTO:-0800
TZNAME:PST
DTSTART:20261101T090000
END:STANDARD
BEGIN:DAYLIGHT
TZOFFSETFROM:-0800
TZOFFSETTO:-0700
TZNAME:PDT
DTSTART:20270314T100000
END:DAYLIGHT
BEGIN:STANDARD
TZOFFSETFROM:-0700
TZOFFSETTO:-0800
TZNAME:PST
DTSTART:20271107T090000
END:STANDARD
END:VTIMEZONE
BEGIN:VEVENT
DTSTART;TZID=America/Los_Angeles:20260221T100000
DTEND;TZID=America/Los_Angeles:20260221T103000
DTSTAMP:20260421T185328
CREATED:20260127T180319Z
LAST-MODIFIED:20260128T004933Z
UID:5601-1771668000-1771669800@greenhousegardencenter.com
SUMMARY:Feeding the Birds Class with Elona
DESCRIPTION:Elona\, our in house birder\, will teach you which food sources will attract the feathered friends you desire! There’s many different types of bird food on the market\, each type attracting specific types of birds. In this class you’ll learn which bird food is the right selection for you. \nCost: $5 per person\, to be donated to local charity \nCall (775) 882-8600 or stop in to RSVP
URL:https://greenhousegardencenter.com/event/feeding-the-birds-class-with-elona/
LOCATION:Greenhouse Garden Center\, 2450 South Curry Street\, Carson City\, Nevada\, 89703\, United States
CATEGORIES:Clubs classes and clinics
ATTACH;FMTTYPE=image/jpeg:https://greenhousegardencenter.com/wp-content/uploads/2026/01/Elona-with-hat-decorated-with-roses-scaled-e1769536969969.jpg
END:VEVENT
END:VCALENDAR