BEGIN:VCALENDAR
VERSION:2.0
PRODID:-//Greenhouse Garden Center - ECPv6.15.20//NONSGML v1.0//EN
CALSCALE:GREGORIAN
METHOD:PUBLISH
X-WR-CALNAME:Greenhouse Garden Center
X-ORIGINAL-URL:https://greenhousegardencenter.com
X-WR-CALDESC:Events for Greenhouse Garden Center
REFRESH-INTERVAL;VALUE=DURATION:PT1H
X-Robots-Tag:noindex
X-PUBLISHED-TTL:PT1H
BEGIN:VTIMEZONE
TZID:America/Los_Angeles
BEGIN:DAYLIGHT
TZOFFSETFROM:-0800
TZOFFSETTO:-0700
TZNAME:PDT
DTSTART:20250309T100000
END:DAYLIGHT
BEGIN:STANDARD
TZOFFSETFROM:-0700
TZOFFSETTO:-0800
TZNAME:PST
DTSTART:20251102T090000
END:STANDARD
BEGIN:DAYLIGHT
TZOFFSETFROM:-0800
TZOFFSETTO:-0700
TZNAME:PDT
DTSTART:20260308T100000
END:DAYLIGHT
BEGIN:STANDARD
TZOFFSETFROM:-0700
TZOFFSETTO:-0800
TZNAME:PST
DTSTART:20261101T090000
END:STANDARD
BEGIN:DAYLIGHT
TZOFFSETFROM:-0800
TZOFFSETTO:-0700
TZNAME:PDT
DTSTART:20270314T100000
END:DAYLIGHT
BEGIN:STANDARD
TZOFFSETFROM:-0700
TZOFFSETTO:-0800
TZNAME:PST
DTSTART:20271107T090000
END:STANDARD
END:VTIMEZONE
BEGIN:VEVENT
DTSTART;TZID=America/Los_Angeles:20260110T093000
DTEND;TZID=America/Los_Angeles:20260111T150000
DTSTAMP:20260421T185101
CREATED:20251119T175158Z
LAST-MODIFIED:20251119T201426Z
UID:5551-1768037400-1768143600@greenhousegardencenter.com
SUMMARY:Landscape Design Workshop for the Homeowner
DESCRIPTION:Join our expert landscape designers at Greenhouse Garden Center for an inspiring class on creating beautiful\, functional outdoor spaces\, where you’ll learn the essentials of garden planning\, plant selection\, and design techniques to transform your yard into a personalized retreat. Upon finishing this workshop you will have the tools\, resources\, and instructions to hand draw your own landscape design. Workshop graduates are welcomed to enjoy 10% off all plant material at Greenhouse Garden Center (offer expires September 31st\, 2026). See you there!  \nClick here to view the full itinerary!
URL:https://greenhousegardencenter.com/event/landscape-design-workshop-for-the-homeowner-2/
LOCATION:Greenhouse Garden Center\, 2450 South Curry Street\, Carson City\, Nevada\, 89703\, United States
CATEGORIES:Clubs classes and clinics
END:VEVENT
END:VCALENDAR